BEGIN:VCALENDAR
VERSION:2.0
PRODID:-// - ECPv6.15.20//NONSGML v1.0//EN
CALSCALE:GREGORIAN
METHOD:PUBLISH
X-ORIGINAL-URL:https://mareka-breathwork.de
X-WR-CALDESC:Veranstaltungen für 
REFRESH-INTERVAL;VALUE=DURATION:PT1H
X-Robots-Tag:noindex
X-PUBLISHED-TTL:PT1H
BEGIN:VTIMEZONE
TZID:Europe/Berlin
BEGIN:DAYLIGHT
TZOFFSETFROM:+0100
TZOFFSETTO:+0200
TZNAME:CEST
DTSTART:20250330T010000
END:DAYLIGHT
BEGIN:STANDARD
TZOFFSETFROM:+0200
TZOFFSETTO:+0100
TZNAME:CET
DTSTART:20251026T010000
END:STANDARD
BEGIN:DAYLIGHT
TZOFFSETFROM:+0100
TZOFFSETTO:+0200
TZNAME:CEST
DTSTART:20260329T010000
END:DAYLIGHT
BEGIN:STANDARD
TZOFFSETFROM:+0200
TZOFFSETTO:+0100
TZNAME:CET
DTSTART:20261025T010000
END:STANDARD
BEGIN:DAYLIGHT
TZOFFSETFROM:+0100
TZOFFSETTO:+0200
TZNAME:CEST
DTSTART:20270328T010000
END:DAYLIGHT
BEGIN:STANDARD
TZOFFSETFROM:+0200
TZOFFSETTO:+0100
TZNAME:CET
DTSTART:20271031T010000
END:STANDARD
END:VTIMEZONE
BEGIN:VEVENT
DTSTART;TZID=Europe/Berlin:20260609T173000
DTEND;TZID=Europe/Berlin:20260609T200000
DTSTAMP:20260421T182607
CREATED:20260419T163336Z
LAST-MODIFIED:20260419T163336Z
UID:1837-1781026200-1781035200@mareka-breathwork.de
SUMMARY:Community Event - 09.06.2026
DESCRIPTION:MAREKA COMMUNITY EVENT\nManchmal entsteht Verbindung nicht durch ein Programm\, sondern durch Raum. Durch ein paar Stunden\, in denen nichts erreicht werden muss und trotzdem etwas in Bewegung kommt. Dieser Abend ist eine Einladung\, genau das zu erleben.\nEin offenes Zusammensein für alle\, die MAREKA Breathwork bereits kennen und diejenigen\, die bisher nur neugierig waren und sich einen ersten Eindruck wünschen. Ohne Erwartung\, ohne Einstiegshürde\, ohne das Gefühl\, irgendwo mithalten zu müssen. Es geht um Austausch\, um Begegnung und darum\, sich gegenseitig ein Stück näher kennenzulernen. Fragen dürfen entstehen\, Erfahrungen dürfen geteilt werden und genauso darf es einfach leicht bleiben\, stiller oder lebendiger\, je nachdem\, was sich bei dir stimmig anfühlt.\nBei gutem Wetter treffen wir uns vor meinen Räumlichkeiten Fedelhören 106\, 28203 Bremen und gehen zusammen in die Wallanlagen\, bei Regen bleiben wir in meinen Räumlichkeiten. Gemeinsam entsteht ein kleines Buffet\, zu dem jede Person etwas beiträgt.\nDieser Abend ist mein Geschenk an euch. Aus Dankbarkeit für das Vertrauen\, das hier immer wieder spürbar wird und als Einladung an alle\, die sich bislang noch nicht getraut haben\, einfach einmal vorbeizukommen und die Atmosphäre kennenzulernen.\n  \nWenn du spürst\, dass dich dieser Rahmen anspricht\, bist du herzlich willkommen.\nDie Teilnahme ist kostenlos\, eine Anmeldung  ist erforderlich.\nZur Anmeldung
URL:https://mareka-breathwork.de/event/community-event-09-06-2026/
LOCATION:Fedelhören 106 – Bremen\, Steintor\, Fedelhören 106\, Bremen\, Bremen\, 28203\, Germany
ATTACH;FMTTYPE=image/jpeg:https://mareka-breathwork.de/wp-content/uploads/2026/04/community-scaled.jpg
ORGANIZER;CN="Katharina Morosow":MAILTO:info@mareka-breathwork.de
END:VEVENT
BEGIN:VEVENT
DTSTART;TZID=Europe/Berlin:20260614T083000
DTEND;TZID=Europe/Berlin:20260614T113000
DTSTAMP:20260421T182607
CREATED:20260415T203018Z
LAST-MODIFIED:20260419T075348Z
UID:1786-1781425800-1781436600@mareka-breathwork.de
SUMMARY:SUP Yoga & Floating Breathwork - 14.06.2026
DESCRIPTION:Yoga & Breathwork goes SUP (Stand Up Paddle Board) @Unisee\nEin einzigartiger Ort der Ruhe!\nKomm mit uns auf eine ganz besondere Entspannungsreise – auf dem Wasser\, unter freiem Himmel\, getragen von sanften Wellen.\nSonntag\, 14.06.2026 8:45 – 11:45 Uhr\, SUP Station Unisee\n(Ausweichtermin bei schlechtem Wetter: 21.06.2026 8:45 – 11:45 Uhr)\n  \n  \nDich erwartet: \nTauche ein in eine besondere Erfahrung aus sanftem Yoga\, meditativem Breathwork und der beruhigenden Kraft des Wassers. Unser SUP Yoga & Breathwork Event bietet dir einen sicheren\, stabilen Raum auf dem Wasser\, in dem du komplett loslassen darfst – körperlich\, mental und emotional. Dein Board ist an unserer Docking Station verankert. Diese ist wiederum fest an einer Boje verankert – du kannst dich vollkommen sicher fühlen\, während du dich dem Wasser und dem Moment hingibst.\n\n  \nSanftes SUP Yoga\nAuf deinem Board führt dich Janice durch fließende\, ruhige Yoga-Übungen. Der Fokus liegt auf Mobilisation\, Dehnung und Entspannung – keine Vorkenntnisse nötig. Alles darf\, nichts muss.\n\n  \nMeditatives Breathwork\nKatharina leitet dich anschließend durch eine Atemreise mit Musik\, sodass du zur Ruhe kommen und dich mit dir selbst verbinden kannst. Diese sanfte\, meditative Breathwork-Reise\, getragen auf dem Wasser\, bringt dich in einen Zustand tiefer Entspannung.\n  \n\nFür wen ist dieses Event geeignet?\nFür alle\, die eine Pause vom Alltag suchen und Entspannung auf einer ganz besonderen Ebene & Sphäre erleben möchten.\nFür Anfänger und Fortgeschrittene im Yoga oder Breathwork.\nFür Menschen\, die Wasser und Natur lieben (und schwimmen können)!\n  \nSicherheit\nUnsere SUP-Boards sind breit und während der Sessions an einer zentralen Docking Station befestigt\, die wiederum an einer Boje/Anker liegt.\nDu bist also während des Yoga & Breathwork stabil verankert und musst dir keine Sorgen um Strömung oder Gleichgewicht machen. (Wir können nicht abdriften!)\nDu paddelst lediglich den kurzen Weg zur Docking Station und am Ende wieder zurück (du kannst im Sitzen paddeln und brauchst dich NICHT hinzustellen).\nEs kann natürlich trotzdem passieren\, dass du ins Wasser fällst.\nDaher bitte nur anmelden\, wenn du ein/e sichere/r Schwimmer/in bist. Wir haben extra HelferInnen an Land und auf dem Wasser.\n  \nMehr Infos und was du mitbringen solltest!\nMelde dich jetzt an und schenke dir diese besondere Zeit auf dem Wasser!\n  \n \nKATHARINA Breathwork-Lehrerin in Bremen | JANICE Yogalehrerin für Special Yoga Events in Bremen
URL:https://mareka-breathwork.de/event/sup-yoga-floating-breathwork-14-06-2026/
LOCATION:SUP Station Unisee\, Bremen\, Hochschulring\, Parkplatz Nord\, Bremen\, Bremen\, 28359\, Germany
ATTACH;FMTTYPE=image/jpeg:https://mareka-breathwork.de/wp-content/uploads/2026/04/3dfe565d-8498-4e0a-b304-3cd977678b8e-1.jpg
ORGANIZER;CN="Janice & Katharina":MAILTO:info@mareka-breathwork.de
END:VEVENT
BEGIN:VEVENT
DTSTART;TZID=Europe/Berlin:20260618T180000
DTEND;TZID=Europe/Berlin:20260618T193000
DTSTAMP:20260421T182607
CREATED:20260419T082149Z
LAST-MODIFIED:20260419T082532Z
UID:1818-1781805600-1781811000@mareka-breathwork.de
SUMMARY:Breathwork Session "let it go & let it flow" - 18.06.2026
DESCRIPTION:Let it go & let it flow – Befreie\, was dich zurückhält!\n  \nEine transformative Breathwork Session für emotionale Entlastung und innere Leichtigkeit.\n  \nIn dieser Session darf alles fließen: dein Atem\, deine Emotionen\, dein innerer Ausdruck. Wir schaffen Raum\, um loszulassen – alte Gedanken\, angestaute Gefühle\, körperliche Anspannung. Durch bewusstes Atmen aktivierst du deine Selbstheilung und bringst dich wieder in Balance.\n  \nDiese Reise unterstützt dich dabei\, wieder in den natürlichen Fluss zu kommen – mit mehr Vertrauen\, Weichheit und Klarheit.\n  \nLet it go. Let it flow. Der Atem zeigt dir den Weg!\nJetzt anmelden und tiefer eintauchen. Ein bewusster Moment nur für dich!\nZur Anmeldung\n 
URL:https://mareka-breathwork.de/event/breathwork-session-let-it-go-let-it-flow-18-06-2026/
LOCATION:Fedelhören 106 – Bremen\, Steintor\, Fedelhören 106\, Bremen\, Bremen\, 28203\, Germany
ATTACH;FMTTYPE=image/jpeg:https://mareka-breathwork.de/wp-content/uploads/2025/05/sailing_inward-scaled.jpg
ORGANIZER;CN="Katharina Morosow":MAILTO:info@mareka-breathwork.de
END:VEVENT
END:VCALENDAR